BEGIN:VCALENDAR
VERSION:2.0
PRODID:-//Tukios.com/
BEGIN:VEVENT
UID:23a623ac-1b6b-4952-a11b-2fa0608817fd@www.adzimafuneralhome.com
DTSTAMP:20260423T212201Z
DTSTART:20260428T161500Z
DTEND:20260428T171500Z
SUMMARY:Burial
DESCRIPTION:
URL:https://www.adzimafuneralhome.com/obituaries/jo-ann-belovitch
LOCATION: 885 Boston Avenue  Bridgeport CT 06610
GEO:41.197567;-73.1736814
END:VEVENT
END:VCALENDAR