BEGIN:VCALENDAR
VERSION:2.0
PRODID:-//Tukios.com/
BEGIN:VEVENT
UID:281aebb1-3a55-437a-ae85-5f4da96c077e@www.adzimafuneralhome.com
DTSTAMP:20260423T212146Z
DTSTART:20260428T153000Z
DTEND:20260428T163000Z
SUMMARY:Prayer Service
DESCRIPTION:
URL:https://www.adzimafuneralhome.com/obituaries/jo-ann-belovitch
LOCATION:Adzima Funeral Home 50 Paradise Green Pl  Stratford CT 06614
GEO:41.2094911;-73.1313667
END:VEVENT
END:VCALENDAR