BEGIN:VCALENDAR
VERSION:2.0
PRODID:-//Tukios.com/
BEGIN:VEVENT
UID:c206c24d-0ee1-4053-ba48-a32e5f026fa5@www.adzimafuneralhome.com
DTSTAMP:20260423T212024Z
DTSTART:20260428T140000Z
DTEND:20260428T153000Z
SUMMARY:Visitation
DESCRIPTION:
URL:https://www.adzimafuneralhome.com/obituaries/jo-ann-belovitch
LOCATION:Adzima Funeral Home 50 Paradise Green Pl  Stratford CT 06614
GEO:41.2094911;-73.1313667
END:VEVENT
END:VCALENDAR