BEGIN:VCALENDAR
VERSION:2.0
PRODID:-//Tukios.com/
BEGIN:VEVENT
UID:ccf4878f-57c2-4cf0-94e8-23271bad9803@www.adzimafuneralhome.com
DTSTAMP:20260424T220958Z
DTSTART:20260612T200000Z
DTEND:20260612T220000Z
SUMMARY:Visitation
DESCRIPTION:
URL:https://www.adzimafuneralhome.com/obituaries/janet-schreckengost
LOCATION:Adzima Funeral Home 50 Paradise Green Pl  Stratford CT 06614
GEO:41.2094911;-73.1313667
END:VEVENT
END:VCALENDAR