BEGIN:VCALENDAR
VERSION:2.0
PRODID:-//Tukios.com/
BEGIN:VEVENT
UID:c47572f2-7910-4b06-a44f-5e27980c2beb@www.adzimafuneralhome.com
DTSTAMP:20260422T194558Z
DTSTART:20260424T150000Z
DTEND:20260424T160000Z
SUMMARY:Graveside Service
DESCRIPTION:
URL:https://www.adzimafuneralhome.com/obituaries/catherine-rodrigues
LOCATION: 500 Moose Hill Road  Monroe CT 06468
GEO:41.3223032;-73.2053724
END:VEVENT
END:VCALENDAR